BEGIN:VCALENDAR
VERSION:2.0
PRODID:-//Detroit Wine Organization - ECPv6.15.13//NONSGML v1.0//EN
CALSCALE:GREGORIAN
METHOD:PUBLISH
X-ORIGINAL-URL:https://detroitwine.org
X-WR-CALDESC:Events for Detroit Wine Organization
REFRESH-INTERVAL;VALUE=DURATION:PT1H
X-Robots-Tag:noindex
X-PUBLISHED-TTL:PT1H
BEGIN:VTIMEZONE
TZID:America/Detroit
BEGIN:DAYLIGHT
TZOFFSETFROM:-0500
TZOFFSETTO:-0400
TZNAME:EDT
DTSTART:20210314T070000
END:DAYLIGHT
BEGIN:STANDARD
TZOFFSETFROM:-0400
TZOFFSETTO:-0500
TZNAME:EST
DTSTART:20211107T060000
END:STANDARD
BEGIN:DAYLIGHT
TZOFFSETFROM:-0500
TZOFFSETTO:-0400
TZNAME:EDT
DTSTART:20220313T070000
END:DAYLIGHT
BEGIN:STANDARD
TZOFFSETFROM:-0400
TZOFFSETTO:-0500
TZNAME:EST
DTSTART:20221106T060000
END:STANDARD
BEGIN:DAYLIGHT
TZOFFSETFROM:-0500
TZOFFSETTO:-0400
TZNAME:EDT
DTSTART:20230312T070000
END:DAYLIGHT
BEGIN:STANDARD
TZOFFSETFROM:-0400
TZOFFSETTO:-0500
TZNAME:EST
DTSTART:20231105T060000
END:STANDARD
END:VTIMEZONE
BEGIN:VEVENT
DTSTART;TZID=America/Detroit:20220603T180000
DTEND;TZID=America/Detroit:20220603T210000
DTSTAMP:20260421T155741
CREATED:20220228T182601Z
LAST-MODIFIED:20220328T023536Z
UID:10404-1654279200-1654290000@detroitwine.org
SUMMARY:Wines of the World 2022
DESCRIPTION:Buy TicketsThis will be the third annual ’WINES OF THE WORLD’ wine tasting event*.\n(*The event was held in 2019 and 2021\, but was cancelled in 2020\, due to lockdown restrictions.)\nThe 2022 event will be our biggest and best yet\, featuring wine\, beer\, and spirit tastings\, strolling food samplings\, and musical entertainment.  The wine\, beer\, and spirits will be donated by DWO members and sponsors.  The food samplings will be donated by area restaurants and caterers.  The location of Mill Race Village will add charm and history for a truly special evening.\nThis event will be held in full compliance with the guidelines of the CDC and the Michigan Department of Health.\nA charity wine tasting event to benefit\nTHE MIRACLE LEAGUE OF PLYMOUTH\nand\nTHE NORTHVILLE HISTORICAL SOCIETY/MILL RACE VILLAGE\n~ 100+ wines from around the world\n~ Food tastings from local restaurants\n~ Wine wall\n~ Silent Auction\n~ Live Music \nABOUT THE ORGANIZATIONS\nMIRACLE LEAGUE OF PLYMOUTH – www.miracleleagueofplymouth.com\nThe mission of the Miracle League of Plymouth is to enrich our community by providing education and social development through high-quality recreation programs\, including baseball for individuals with special needs and their families.\nMiracle League of Plymouth fosters peer relationships through player and “buddy” interactions so that barriers to friendship are removed. \nNORTHVILLE HISTORICAL SOCIETY & MILL RACE VILLAGE – www.millracenorthville.org\nThe Northville Historical Society is a non-profit volunteer organization responsible for the financing and operation of Mill Race Historical Village\, and preservation of the Northville Archives. The mission of the NHS is to discover\, collect\, preserve and disseminate the history of Northville to the local community. \nTickets on sale April 1\n1 ticket for $125\n2 tickets for $225\nBuy Tickets
URL:https://detroitwine.org/event/wines-of-the-world-2022/
LOCATION:Mill Race Village\, 215 Griswold St\, Northville\, MI\, 48167\, United States
ATTACH;FMTTYPE=image/jpeg:https://detroitwine.org/wp-content/uploads/2022/02/WOTW-2022-500-x-72-low-res-2.jpg
ORGANIZER;CN="Detroit Wine Organization":MAILTO:info@detroitwine.org
END:VEVENT
END:VCALENDAR